BEGIN:VCALENDAR
VERSION:2.0
PRODID:-//eventon.com NONSGML v1.0//EN
CALSCALE:GREGORIAN
METHOD:PUBLISH
BEGIN:VEVENT
UID:69e7e00aa32e9
DTSTAMP:20260421T203730Z
DTSTART:20260623T020000Z
DTEND:20260623T040000Z
LOCATION:SEE EVENT DESCRIPTION
SUMMARY:Footscray Street Sounds (Tuesdays)
DESCRIPTION:Award winning musician\,  Ania Reynolds will present a series o
 f free lunchtime street concerts in Footscray. Ania will perform weekly pop
 -up street shows Fridays in March and Tuesdays June. These family-friendly 
 concerts will take place at various outdoor public locations across the Foo
 tscray CBD for everyone to enjoy. Fridays March[..]\nhttps://thewestsider.c
 om.au/event/footscray-street-sounds-tuesdays/var/ri-3.l-L1
URL:https://thewestsider.com.au/event/footscray-street-sounds-tuesdays/var/ri-3.l-L1
END:VEVENT
END:VCALENDAR