BEGIN:VCALENDAR
VERSION:2.0
PRODID:-//eventon.com NONSGML v1.0//EN
CALSCALE:GREGORIAN
METHOD:PUBLISH
BEGIN:VEVENT
UID:69e8c1d346f3b
DTSTAMP:20260422T124051Z
DTSTART:20260512T014500Z
DTEND:20260512T024500Z
LOCATION:Commonwealth Reserve Nelson Place\,  Williamstown
SUMMARY:Step Back in Time - Williamstown Walking Tour
DESCRIPTION:Step back in time and unlock the secrets of the historic waterf
 ront and seaport of Williamstown with free guided heritage walking tours. M
 eet at the Visitor Information Centre\,  Commonwealth Reserve\,  Corner Sym
 e Street and Nelson Place\,  Williamstown Tuesdays and Fridays\,  11.45am t
 o 12.45pm (excludes easter holidays) Bookings are essential. https://www.ho
 bsonsbaytickets.com.au/whatson/williamstown-heritage-walking-tours-step-bac
 k-in-time\nhttps://thewestsider.com.au/event/step-back-in-time-williamstown
 -walking-tour-spring-2025/var/ri-20.l-L1
URL:https://thewestsider.com.au/event/step-back-in-time-williamstown-walking-tour-spring-2025/var/ri-20.l-L1
END:VEVENT
END:VCALENDAR