BEGIN:VCALENDAR
VERSION:2.0
PRODID:-//eventon.com NONSGML v1.0//EN
CALSCALE:GREGORIAN
METHOD:PUBLISH
BEGIN:VEVENT
UID:69e7548071e3c
DTSTAMP:20260421T104208Z
DTSTART:20260806T053000Z
DTEND:20260806T073000Z
LOCATION:Phoenix Youth Centre 72 Buckley Street
SUMMARY:Phoenix drop-in program
DESCRIPTION:Looking for a place to hang out after school? Phoenix Drop-In i
 s the spot! We are opening the doors of Phoenix Youth Hub every second Thur
 sday for young people aged 12–17. Come by for an afternoon of fun\,  foo
 d and good vibes: Play Nintendo Switch or PS4 Try out our brand-new[..]\nht
 tps://thewestsider.com.au/event/phoenix-drop-in-program/var/ri-22.l-L1
URL:https://thewestsider.com.au/event/phoenix-drop-in-program/var/ri-22.l-L1
END:VEVENT
END:VCALENDAR