BEGIN:VCALENDAR
VERSION:2.0
PRODID:-//eventon.com NONSGML v1.0//EN
CALSCALE:GREGORIAN
METHOD:PUBLISH
BEGIN:VEVENT
UID:69e7f71f51f9f
DTSTAMP:20260421T221559Z
DTSTART:20260305T043000Z
DTEND:20260305T063000Z
LOCATION:Phoenix Youth Centre 72 Buckley Street
SUMMARY:Phoenix drop-in program
DESCRIPTION:Looking for a place to hang out after school? Phoenix Drop-In i
 s the spot! We are opening the doors of Phoenix Youth Hub every second Thur
 sday for young people aged 12–17. Come by for an afternoon of fun\,  foo
 d and good vibes: Play Nintendo Switch or PS4 Try out our brand-new[..]\nht
 tps://thewestsider.com.au/event/phoenix-drop-in-program/
URL:https://thewestsider.com.au/event/phoenix-drop-in-program/
END:VEVENT
END:VCALENDAR