BEGIN:VCALENDAR
VERSION:2.0
PRODID:-//eventon.com NONSGML v1.0//EN
CALSCALE:GREGORIAN
METHOD:PUBLISH
BEGIN:VEVENT
UID:69e7d38e38ecd
DTSTAMP:20260421T194414Z
DTSTART:20260303T223000Z
DTEND:20260304T003000Z
LOCATION:Maidstone Community Centre 21 Yardley Street\,  Maidstone
SUMMARY:Maidstone community playgroup
DESCRIPTION:Run by an experienced facilitator\,  children will explore the 
 delights of painting\,  play dough\,  dress ups\,  water play and planting 
 in our gorgeous garden. Bookings are essential \nhttps://thewestsider.com.
 au/event/maidstone-community-playgroup/
URL:https://thewestsider.com.au/event/maidstone-community-playgroup/
END:VEVENT
END:VCALENDAR