BEGIN:VCALENDAR
VERSION:2.0
PRODID:-//eventon.com NONSGML v1.0//EN
CALSCALE:GREGORIAN
METHOD:PUBLISH
BEGIN:VEVENT
UID:69e646a0aea89
DTSTAMP:20260420T153040Z
DTSTART:20260302T073000Z
DTEND:20260302T090000Z
LOCATION:Maribyrnong Community Centre 9 Randall Street\,  Maribyrnong
SUMMARY:Hatha Yoga
DESCRIPTION:Experience a holistic and creative approach to yoga with Richar
 d&#8217;s classes\,  blending gentle stretching\,  breath work and meditati
 on. The focus is on mindful breath and movement. Bookings are essential \n
 https://thewestsider.com.au/event/beginner-hatha-yoga/
URL:https://thewestsider.com.au/event/beginner-hatha-yoga/
END:VEVENT
END:VCALENDAR