BEGIN:VCALENDAR
VERSION:2.0
PRODID:-//eventon.com NONSGML v1.0//EN
CALSCALE:GREGORIAN
METHOD:PUBLISH
BEGIN:VEVENT
UID:69eb3aff30caa
DTSTAMP:20260424T094223Z
DTSTART:20260901T230000Z
DTEND:20260902T020000Z
LOCATION:commUnity+ 822 Ballarat Road\,  Deer Park
SUMMARY:Knit One\,  Take one - Deer Park
DESCRIPTION:Join our social knitting group for&nbsp;creativity and camarade
 rie!\nhttps://thewestsider.com.au/event/knit-one-take-one/var/ri-25.l-L1
URL:https://thewestsider.com.au/event/knit-one-take-one/var/ri-25.l-L1
END:VEVENT
END:VCALENDAR