BEGIN:VCALENDAR
VERSION:2.0
PRODID:-//eventon.com NONSGML v1.0//EN
CALSCALE:GREGORIAN
METHOD:PUBLISH
BEGIN:VEVENT
UID:69e7d59cb7d8e
DTSTAMP:20260421T195300Z
DTSTART:20260306T000000Z
DTEND:20260306T003000Z
LOCATION:West Footscray Library 539 Barkly Street\,  West Footscray
SUMMARY:Toddler Time - West Footscray Library
DESCRIPTION:Engage toddlers in singing\,  stories\,  movement\,  literacy\,
   language and play at Toddler Time. This session is specially designed to 
 support language development and social skills. Suitable for toddlers aged 
 1-3\,  their families and carers. Bookings not required.\nhttps://thewestsi
 der.com.au/event/toddler-time-west-footscray-library/
URL:https://thewestsider.com.au/event/toddler-time-west-footscray-library/
END:VEVENT
END:VCALENDAR