BEGIN:VCALENDAR
VERSION:2.0
PRODID:-//eventon.com NONSGML v1.0//EN
CALSCALE:GREGORIAN
METHOD:PUBLISH
BEGIN:VEVENT
UID:69e7f3b9b8446
DTSTAMP:20260421T220129Z
DTSTART:20260827T003000Z
DTEND:20260827T010000Z
LOCATION:Footscray Library 56 Paisley Street\,  Footscray
SUMMARY:Toddler Timer - Footscray Library
DESCRIPTION:Engage toddlers in singing\,  stories\,  movement\,  literacy\,
   language and play at Toddler Time. This session is specially designed to 
 support language development and social skills. Suitable for toddlers aged 
 1-3\,  their families and carers. Bookings not required.\nhttps://thewestsi
 der.com.au/event/toddler-timer-footscray-library/var/ri-25.l-L1
URL:https://thewestsider.com.au/event/toddler-timer-footscray-library/var/ri-25.l-L1
END:VEVENT
END:VCALENDAR