BEGIN:VCALENDAR
VERSION:2.0
PRODID:-//eventon.com NONSGML v1.0//EN
CALSCALE:GREGORIAN
METHOD:PUBLISH
BEGIN:VEVENT
UID:69e7bb85de07b
DTSTAMP:20260421T180141Z
DTSTART:20260310T230000Z
DTEND:20260311T010000Z
LOCATION:
SUMMARY:Positive steps walking group - Maidstone 
DESCRIPTION:Walking is a great way to boost your strength\,  fitness and ge
 neral wellbeing. On your return enjoy a cup of tea and a chat.\nhttps://the
 westsider.com.au/event/positive-steps-walking-group/var/ri-1.l-L1
URL:https://thewestsider.com.au/event/positive-steps-walking-group/var/ri-1.l-L1
END:VEVENT
END:VCALENDAR