BEGIN:VCALENDAR
VERSION:2.0
PRODID:-//eventon.com NONSGML v1.0//EN
CALSCALE:GREGORIAN
METHOD:PUBLISH
BEGIN:VEVENT
UID:69e8eff5b67d6
DTSTAMP:20260422T155741Z
DTSTART:20260322T223000Z
DTEND:20260322T231500Z
LOCATION:Maidstone Community Centre 21 Yardley Street\,  Maidstone
SUMMARY:Music for hip toddlers
DESCRIPTION:Come on a rollicking ride through dance and percussion and rock
  out with Sarah in this nine-week course. Suitable for toddlers aged 6 mont
 hs to four years. Bookings are essential . Cost for 11 weeks\nhttps://thew
 estsider.com.au/event/music-for-hip-toddlers/var/ri-9.l-L1
URL:https://thewestsider.com.au/event/music-for-hip-toddlers/var/ri-9.l-L1
END:VEVENT
END:VCALENDAR